BEGIN:VCALENDAR
VERSION:2.0
PRODID:-//Target Agility - ECPv6.6.4.2//NONSGML v1.0//EN
CALSCALE:GREGORIAN
METHOD:PUBLISH
X-ORIGINAL-URL:https://targetagility.com
X-WR-CALDESC:Events for Target Agility
REFRESH-INTERVAL;VALUE=DURATION:PT1H
X-Robots-Tag:noindex
X-PUBLISHED-TTL:PT1H
BEGIN:VTIMEZONE
TZID:Asia/Kolkata
BEGIN:STANDARD
TZOFFSETFROM:+0530
TZOFFSETTO:+0530
TZNAME:IST
DTSTART:20250101T000000
END:STANDARD
END:VTIMEZONE
BEGIN:VEVENT
DTSTART;TZID=Asia/Kolkata:20250313T193000
DTEND;TZID=Asia/Kolkata:20250313T204500
DTSTAMP:20260424T184802
CREATED:20250308T143242Z
LAST-MODIFIED:20250310T164822Z
UID:39148-1741894200-1741898700@targetagility.com
SUMMARY:Master Your Scrum Journey & JIRA Hands-On Training
DESCRIPTION:📢 Master Your Scrum Journey & JIRA Hands-On Training! 🚀\n🔹 Duration: 60-90 minutes\n🔹 Format: Live Zoom Session\n🔹 Who Should Attend? Aspiring Scrum Masters\, IT & Non-IT Professionals\, PSM/CSM Certified Individuals\, and anyone looking to transition into Agile roles. \n📌 Webinar Agenda:\n1️⃣ Welcome & Introduction (5-10 mins)\n🎤 Host Introduction & Overview\n✅ Why Scrum & JIRA are in High Demand?\n✅ Who is this webinar for? \n2️⃣ Understanding Scrum Mastery (20-25 mins)\n📍 What is Scrum & Why is it Essential?\n📍 Scrum Roles\, Events & Artifacts – Explained with Real-Life Examples\n📍 Common Myths & Misconceptions about Scrum\n📍 Career Growth as a Scrum Master \n3️⃣ JIRA Hands-On Overview (20-25 mins)\n🛠 Live Demonstration:\n🔹 Introduction to JIRA Tool\n🔹 Creating & Managing Scrum Boards\n🔹 Working with User Stories\, Sprints & Backlogs\n🔹 Tracking & Reporting Progress in JIRA \n4️⃣ Bonus Benefits & Career Roadmap (15 mins)\n🎯 How to Gain Practical Experience in Scrum?\n🎯 Scrum Simulation (Role Play Activity)\n🎯 Resume Building & Interview Preparation\n🎯 Common Interview Questions & Best Answers \n5️⃣ Q&A + Special Offer Announcement (10-15 mins)\n💬 Open Q&A – Get Your Queries Answered by Experts!\n🔥 Exclusive Offers for Webinar Attendees! \n📢 🎯 Take Your Career to the Next Level! Don’t miss this opportunity to gain valuable insights\, hands-on experience\, and a roadmap to becoming a successful Scrum Master. \n📌 Register Now & Secure Your Spot! 🚀 \nView Event
URL:https://targetagility.com/event/master-your-scrum-journey-jira-hands-on-training/
LOCATION:Online
CATEGORIES:upcoming,Webinars
ATTACH;FMTTYPE=image/jpeg:https://targetagility.com/wp-content/uploads/2025/03/LinkedIn-Events-10-2.jpg
ORGANIZER;CN="Target Agility":MAILTO:connect@targetagility.com
END:VEVENT
END:VCALENDAR